BEGIN:VCALENDAR
VERSION:2.0
PRODID:-//Sacred Heart School - ECPv5.8.1//NONSGML v1.0//EN
CALSCALE:GREGORIAN
METHOD:PUBLISH
X-WR-CALNAME:Sacred Heart School
X-ORIGINAL-URL:https://www.gogremlins.com
X-WR-CALDESC:Events for Sacred Heart School
BEGIN:VTIMEZONE
TZID:America/Chicago
BEGIN:DAYLIGHT
TZOFFSETFROM:-0600
TZOFFSETTO:-0500
TZNAME:CDT
DTSTART:20220313T080000
END:DAYLIGHT
BEGIN:STANDARD
TZOFFSETFROM:-0500
TZOFFSETTO:-0600
TZNAME:CST
DTSTART:20221106T070000
END:STANDARD
END:VTIMEZONE
BEGIN:VEVENT
DTSTART;TZID=America/Chicago:20221011T080000
DTEND;TZID=America/Chicago:20221011T083000
DTSTAMP:20260423T010409
CREATED:20220928T185552Z
LAST-MODIFIED:20221010T205504Z
UID:73509-1665475200-1665477000@www.gogremlins.com
SUMMARY:Blessing of the Pets (K-5)
DESCRIPTION:October 4th is the feast day of St. Francis of Assisi. On his feast day\, it is customary for students in K-5 to bring their pets for the priest to bless their animals.  This blessing is conducted in remembrance of St. Francis of Assisi’s love for all creatures. On Tuesday\, October 11\, we will continue our tradition of elementary students attending the Blessing of the Pets. \n \nThe blessing will take place on the blacktop on the north side of the school (weather permitting.) Parents can report to the playground with their pet.  All students are to report to the classroom for lunch count and attendance.  Elementary students will be dismissed to the playground following morning prayer and announcements. \n \nAfter the blessing has taken place\, the parent and pet will be dismissed and students will return to the classroom.  Unfortunately\, we cannot have animals remain with us during the school day.  Cats and other critters should be contained in a cage or carrier.  Dogs must be on a leash. \n \nIf it is not possible for the child and parent to bring their pet\, the student can bring a picture of the animal to the blessing.
URL:https://www.gogremlins.com/event/blessing-of-the-pets-k-5/
CATEGORIES:Faith Life
END:VEVENT
END:VCALENDAR