BEGIN:VCALENDAR
VERSION:2.0
PRODID:-//Sacred Heart School - ECPv5.8.1//NONSGML v1.0//EN
CALSCALE:GREGORIAN
METHOD:PUBLISH
X-WR-CALNAME:Sacred Heart School
X-ORIGINAL-URL:https://www.gogremlins.com
X-WR-CALDESC:Events for Sacred Heart School
BEGIN:VTIMEZONE
TZID:America/Chicago
BEGIN:DAYLIGHT
TZOFFSETFROM:-0600
TZOFFSETTO:-0500
TZNAME:CDT
DTSTART:20200308T080000
END:DAYLIGHT
BEGIN:STANDARD
TZOFFSETFROM:-0500
TZOFFSETTO:-0600
TZNAME:CST
DTSTART:20201101T070000
END:STANDARD
END:VTIMEZONE
BEGIN:VEVENT
DTSTART;TZID=America/Chicago:20200904T093000
DTEND;TZID=America/Chicago:20200904T100000
DTSTAMP:20260424T174616
CREATED:20200828T153856Z
LAST-MODIFIED:20200903T190923Z
UID:43211-1599211800-1599213600@www.gogremlins.com
SUMMARY:Bishop Blessing: School and Tour
DESCRIPTION:9:30 a.m. – Bishop blessing of school and tour
URL:https://www.gogremlins.com/event/bishop-blessing-school-and-tour/
CATEGORIES:Main
END:VEVENT
END:VCALENDAR