BEGIN:VCALENDAR
VERSION:2.0
PRODID:-//Sacred Heart School - ECPv5.8.1//NONSGML v1.0//EN
CALSCALE:GREGORIAN
METHOD:PUBLISH
X-WR-CALNAME:Sacred Heart School
X-ORIGINAL-URL:https://www.gogremlins.com
X-WR-CALDESC:Events for Sacred Heart School
BEGIN:VTIMEZONE
TZID:America/Chicago
BEGIN:DAYLIGHT
TZOFFSETFROM:-0600
TZOFFSETTO:-0500
TZNAME:CDT
DTSTART:20190310T080000
END:DAYLIGHT
BEGIN:STANDARD
TZOFFSETFROM:-0500
TZOFFSETTO:-0600
TZNAME:CST
DTSTART:20191103T070000
END:STANDARD
END:VTIMEZONE
BEGIN:VEVENT
DTSTART;VALUE=DATE:20191116
DTEND;VALUE=DATE:20191117
DTSTAMP:20260422T064808
CREATED:20191101T155431Z
LAST-MODIFIED:20191116T172410Z
UID:30070-1573862400-1573948799@www.gogremlins.com
SUMMARY:Bellarmine Speech Meet @ St. Andrews (Grades 6-8)
DESCRIPTION:
URL:https://www.gogremlins.com/event/bellarmine-speech-meet-st-andrews-grades-6-8/
LOCATION:St Andrew’s Catholic Church\, 106 W Cooper St\, Tipton\, MO 65081\, USA\, 101 W Cooper St\, United States
CATEGORIES:Main
GEO:38.654242;-92.780278
X-APPLE-STRUCTURED-LOCATION;VALUE=URI;X-ADDRESS=St Andrew’s Catholic Church 106 W Cooper St Tipton MO 65081 USA 101 W Cooper St United States;X-APPLE-RADIUS=500;X-TITLE=101 W Cooper St:geo:-92.780278,38.654242
END:VEVENT
END:VCALENDAR