BEGIN:VCALENDAR
VERSION:2.0
PRODID:-//Sacred Heart School - ECPv5.8.1//NONSGML v1.0//EN
CALSCALE:GREGORIAN
METHOD:PUBLISH
X-WR-CALNAME:Sacred Heart School
X-ORIGINAL-URL:https://www.gogremlins.com
X-WR-CALDESC:Events for Sacred Heart School
BEGIN:VTIMEZONE
TZID:America/Chicago
BEGIN:DAYLIGHT
TZOFFSETFROM:-0600
TZOFFSETTO:-0500
TZNAME:CDT
DTSTART:20180311T080000
END:DAYLIGHT
BEGIN:STANDARD
TZOFFSETFROM:-0500
TZOFFSETTO:-0600
TZNAME:CST
DTSTART:20181104T070000
END:STANDARD
END:VTIMEZONE
BEGIN:VEVENT
DTSTART;VALUE=DATE:20180831
DTEND;VALUE=DATE:20180901
DTSTAMP:20260422T064814
CREATED:20180822T154050Z
LAST-MODIFIED:20180826T154103Z
UID:13047-1535673600-1535759999@www.gogremlins.com
SUMMARY:Barstow Tournament @ Kansas City V
DESCRIPTION:This event has a Google Hangouts video call.\nJoin: https://hangouts.google.com/hangouts/_/gogremlins.com/barstow?hceid=Z29ncmVtbGlucy5jb21fZTNyZTYyajMzbDBjZHV0cGhsdm9rNzVtZ2NAZ3JvdXAuY2FsZW5kYXIuZ29vZ2xlLmNvbQ.10jdrbnsi1td46sjebetcm1d4t&hs=121
URL:https://www.gogremlins.com/event/barstow-tournament-kansas-city-v-4/
CATEGORIES:HS Soccer
END:VEVENT
END:VCALENDAR