BEGIN:VCALENDAR
VERSION:2.0
PRODID:-//Sacred Heart School - ECPv5.8.1//NONSGML v1.0//EN
CALSCALE:GREGORIAN
METHOD:PUBLISH
X-WR-CALNAME:Sacred Heart School
X-ORIGINAL-URL:https://www.gogremlins.com
X-WR-CALDESC:Events for Sacred Heart School
BEGIN:VTIMEZONE
TZID:America/Chicago
BEGIN:DAYLIGHT
TZOFFSETFROM:-0600
TZOFFSETTO:-0500
TZNAME:CDT
DTSTART:20180311T080000
END:DAYLIGHT
BEGIN:STANDARD
TZOFFSETFROM:-0500
TZOFFSETTO:-0600
TZNAME:CST
DTSTART:20181104T070000
END:STANDARD
END:VTIMEZONE
BEGIN:VEVENT
DTSTART;TZID=America/Chicago:20180907T083000
DTEND;TZID=America/Chicago:20180907T093000
DTSTAMP:20260422T064457
CREATED:20180829T152534Z
LAST-MODIFIED:20180907T043512Z
UID:13973-1536309000-1536312600@www.gogremlins.com
SUMMARY:All School Mass (Kennon)
DESCRIPTION:Kennon
URL:https://www.gogremlins.com/event/all-school-mass-kennon/
CATEGORIES:Faith Life,Main
END:VEVENT
END:VCALENDAR