BEGIN:VCALENDAR
VERSION:2.0
PRODID:-//Sacred Heart School - ECPv5.8.1//NONSGML v1.0//EN
CALSCALE:GREGORIAN
METHOD:PUBLISH
X-WR-CALNAME:Sacred Heart School
X-ORIGINAL-URL:https://www.gogremlins.com
X-WR-CALDESC:Events for Sacred Heart School
BEGIN:VTIMEZONE
TZID:America/Chicago
BEGIN:DAYLIGHT
TZOFFSETFROM:-0600
TZOFFSETTO:-0500
TZNAME:CDT
DTSTART:20190310T080000
END:DAYLIGHT
BEGIN:STANDARD
TZOFFSETFROM:-0500
TZOFFSETTO:-0600
TZNAME:CST
DTSTART:20191103T070000
END:STANDARD
END:VTIMEZONE
BEGIN:VEVENT
DTSTART;TZID=America/Chicago:20190405T113000
DTEND;TZID=America/Chicago:20190405T130000
DTSTAMP:20260421T151449
CREATED:20180910T122705Z
LAST-MODIFIED:20190405T204015Z
UID:15378-1554463800-1554469200@www.gogremlins.com
SUMMARY:Active Parents Club (APC) Meeting
DESCRIPTION:Bring your lunch and join us!
URL:https://www.gogremlins.com/event/active-parents-club-apc-meeting-7/
LOCATION:SH Parish Center
CATEGORIES:Main
END:VEVENT
END:VCALENDAR