BEGIN:VCALENDAR
VERSION:2.0
PRODID:-//Sacred Heart School - ECPv5.8.1//NONSGML v1.0//EN
CALSCALE:GREGORIAN
METHOD:PUBLISH
X-WR-CALNAME:Sacred Heart School
X-ORIGINAL-URL:https://www.gogremlins.com
X-WR-CALDESC:Events for Sacred Heart School
BEGIN:VTIMEZONE
TZID:America/Chicago
BEGIN:DAYLIGHT
TZOFFSETFROM:-0600
TZOFFSETTO:-0500
TZNAME:CDT
DTSTART:20190310T080000
END:DAYLIGHT
BEGIN:STANDARD
TZOFFSETFROM:-0500
TZOFFSETTO:-0600
TZNAME:CST
DTSTART:20191103T070000
END:STANDARD
END:VTIMEZONE
BEGIN:VEVENT
DTSTART;TZID=America/Chicago:20190510T081500
DTEND;TZID=America/Chicago:20190510T083000
DTSTAMP:20260423T051550
CREATED:20190129T152744Z
LAST-MODIFIED:20190510T215627Z
UID:21321-1557476100-1557477000@www.gogremlins.com
SUMMARY:ABC Awards (Grades K-5)
DESCRIPTION:A – Academic\nThis award is presented to a student that shows great academic performance or academic growth. This student does their best on every assignment. They strive for neatness and complete work on time. \nB – Best Behavior\nThis award is presented to a student that strives to follow all classroom and school rules. They strive to show respect to fellow students\, teachers\, and all adults. \nC – Christian Leadership\n This award is presented to a student that exhibits both academic and best behavior\ncharacteristics\, plus strives to emulate Christ’s love to everyone. They reach out to help others\ninclude all children\, and go above and beyond to show respect.
URL:https://www.gogremlins.com/event/abc-awards-grades-k-5-4/
LOCATION:Sacred Heart Catholic Church\, 421 W 3rd St\, Sedalia\, MO 65301\, USA\, 101 W 3rd St\, United States
CATEGORIES:Main
GEO:38.708641;-93.228156
X-APPLE-STRUCTURED-LOCATION;VALUE=URI;X-ADDRESS=Sacred Heart Catholic Church 421 W 3rd St Sedalia MO 65301 USA 101 W 3rd St United States;X-APPLE-RADIUS=500;X-TITLE=101 W 3rd St:geo:-93.228156,38.708641
END:VEVENT
END:VCALENDAR