BEGIN:VCALENDAR
VERSION:2.0
PRODID:-//Sacred Heart School - ECPv5.8.1//NONSGML v1.0//EN
CALSCALE:GREGORIAN
METHOD:PUBLISH
X-WR-CALNAME:Sacred Heart School
X-ORIGINAL-URL:https://www.gogremlins.com
X-WR-CALDESC:Events for Sacred Heart School
BEGIN:VTIMEZONE
TZID:America/Chicago
BEGIN:DAYLIGHT
TZOFFSETFROM:-0600
TZOFFSETTO:-0500
TZNAME:CDT
DTSTART:20200308T080000
END:DAYLIGHT
BEGIN:STANDARD
TZOFFSETFROM:-0500
TZOFFSETTO:-0600
TZNAME:CST
DTSTART:20201101T070000
END:STANDARD
END:VTIMEZONE
BEGIN:VEVENT
DTSTART;TZID=America/Chicago:20200221T080500
DTEND;TZID=America/Chicago:20200221T082000
DTSTAMP:20260421T135522
CREATED:20190805T145440Z
LAST-MODIFIED:20200221T133930Z
UID:26777-1582272300-1582273200@www.gogremlins.com
SUMMARY:ABC Awards (Grades K -5)
DESCRIPTION:ABC Awards Grades K -5\nA – Academic\nThis award is presented to a student that shows great academic performance or academic growth. This student does their best on every assignment. They strive for neatness and completion of work on time.\nB – Best Behavior\nThis award is presented to a student that strives to follow all classroom and school rules. They strive to show respect to fellow students\, teachers\, and all adults.\nC – Christian Leadership\n This award is presented to a student that exhibits both academic and best behavior\ncharacteristics\, plus strives to emulate Christ’s love to everyone. They reach out to help others\ninclude all children\, and go above and beyond to show respect.\n *A teacher may choose a student who possesses the above skills or has shown tremendous growth to attain these skills.
URL:https://www.gogremlins.com/event/abc-awards-6/
LOCATION:Sacred Heart Catholic Church\, 421 W 3rd St\, Sedalia\, MO 65301\, USA\, 101 W 3rd St\, United States
CATEGORIES:Main
GEO:38.708641;-93.228156
X-APPLE-STRUCTURED-LOCATION;VALUE=URI;X-ADDRESS=Sacred Heart Catholic Church 421 W 3rd St Sedalia MO 65301 USA 101 W 3rd St United States;X-APPLE-RADIUS=500;X-TITLE=101 W 3rd St:geo:-93.228156,38.708641
END:VEVENT
END:VCALENDAR