BEGIN:VCALENDAR
VERSION:2.0
PRODID:-//Sacred Heart School - ECPv5.8.1//NONSGML v1.0//EN
CALSCALE:GREGORIAN
METHOD:PUBLISH
X-WR-CALNAME:Sacred Heart School
X-ORIGINAL-URL:https://www.gogremlins.com
X-WR-CALDESC:Events for Sacred Heart School
BEGIN:VTIMEZONE
TZID:America/Chicago
BEGIN:DAYLIGHT
TZOFFSETFROM:-0600
TZOFFSETTO:-0500
TZNAME:CDT
DTSTART:20210314T080000
END:DAYLIGHT
BEGIN:STANDARD
TZOFFSETFROM:-0500
TZOFFSETTO:-0600
TZNAME:CST
DTSTART:20211107T070000
END:STANDARD
END:VTIMEZONE
BEGIN:VEVENT
DTSTART;TZID=America/Chicago:20211014T083000
DTEND;TZID=America/Chicago:20211014T093000
DTSTAMP:20260422T215133
CREATED:20210824T194038Z
LAST-MODIFIED:20211013T150907Z
UID:59215-1634200200-1634203800@www.gogremlins.com
SUMMARY:9th Grade Disciples Armor
DESCRIPTION:9th Graders receive Prayer Journal
URL:https://www.gogremlins.com/event/9th-grad-disciples-armor/
LOCATION:SH Chapel
CATEGORIES:Faith Life
END:VEVENT
END:VCALENDAR