BEGIN:VCALENDAR
VERSION:2.0
PRODID:-//Sacred Heart School - ECPv5.8.1//NONSGML v1.0//EN
CALSCALE:GREGORIAN
METHOD:PUBLISH
X-WR-CALNAME:Sacred Heart School
X-ORIGINAL-URL:https://www.gogremlins.com
X-WR-CALDESC:Events for Sacred Heart School
BEGIN:VTIMEZONE
TZID:America/Chicago
BEGIN:DAYLIGHT
TZOFFSETFROM:-0600
TZOFFSETTO:-0500
TZNAME:CDT
DTSTART:20190310T080000
END:DAYLIGHT
BEGIN:STANDARD
TZOFFSETFROM:-0500
TZOFFSETTO:-0600
TZNAME:CST
DTSTART:20191103T070000
END:STANDARD
END:VTIMEZONE
BEGIN:VEVENT
DTSTART;TZID=America/Chicago:20190215T075000
DTEND;TZID=America/Chicago:20190215T144000
DTSTAMP:20260422T093926
CREATED:20180828T195559Z
LAST-MODIFIED:20190215T120443Z
UID:13801-1550217000-1550241600@www.gogremlins.com
SUMMARY:8th Grade Retreat
DESCRIPTION:We will begin our day with a send-off and blessing at the All School Mass this Friday\, February 15th. Fr. Timothy Armbruster from the Missionaries of the Precious Blood will be our presider!  \nFr. Timothy has been presiding over our school retreats for the past 12 years!  \nUpon arrival at the St. Patrick’s Church\, our 8th-grade parents will have breakfast with their child and then we will begin some reflections. We will reflect on our entire grade school career as we begin looking toward our future in high school.  \nWe will discuss the Sacraments of Initiation\, Baptism\, Eucharist\, and Confirmation\, with some interactive participation and then break for lunch. The good food is being graciously provided by the wonderful 8th grade parents!  \nThe afternoon session is focused on teamwork and team building with some friendly competitions here and there. Once we have expended some energy we will finish the day in the Church sharing parts of our day\, reading special letters from our families\, and then have our final blessing together as Father sends us forth in anticipation of the upcoming 8th grade Mission Trip this March.
URL:https://www.gogremlins.com/event/8th-grade-retreat-2/
CATEGORIES:Main
END:VEVENT
END:VCALENDAR