BEGIN:VCALENDAR
VERSION:2.0
PRODID:-//Sacred Heart School - ECPv5.8.1//NONSGML v1.0//EN
CALSCALE:GREGORIAN
METHOD:PUBLISH
X-WR-CALNAME:Sacred Heart School
X-ORIGINAL-URL:https://www.gogremlins.com
X-WR-CALDESC:Events for Sacred Heart School
BEGIN:VTIMEZONE
TZID:America/Chicago
BEGIN:DAYLIGHT
TZOFFSETFROM:-0600
TZOFFSETTO:-0500
TZNAME:CDT
DTSTART:20230312T080000
END:DAYLIGHT
BEGIN:STANDARD
TZOFFSETFROM:-0500
TZOFFSETTO:-0600
TZNAME:CST
DTSTART:20231105T070000
END:STANDARD
END:VTIMEZONE
BEGIN:VEVENT
DTSTART;VALUE=DATE:20230517
DTEND;VALUE=DATE:20230520
DTSTAMP:20260424T015702
CREATED:20230424T191118Z
LAST-MODIFIED:20230519T190902Z
UID:81601-1684281600-1684540799@www.gogremlins.com
SUMMARY:8th Grade Finals
DESCRIPTION:8th Grade FinalsGiven within regular Class Period times (If your finals require more than 50 minutes\, please utilize a portion of another class period for a two-day final). \n \nWednesday\, May 17th \n3rd Hour and 7th Hour Finals \n  \nThursday\, May 18th \n1st\, 4th\, and 6th Hour Finals \n  \nFriday\, May 19th \n \n2nd and 5th Hour Finals
URL:https://www.gogremlins.com/event/8th-grade-finals-4/
CATEGORIES:Main
END:VEVENT
END:VCALENDAR