BEGIN:VCALENDAR
VERSION:2.0
PRODID:-//Sacred Heart School - ECPv5.8.1//NONSGML v1.0//EN
CALSCALE:GREGORIAN
METHOD:PUBLISH
X-WR-CALNAME:Sacred Heart School
X-ORIGINAL-URL:https://www.gogremlins.com
X-WR-CALDESC:Events for Sacred Heart School
BEGIN:VTIMEZONE
TZID:America/Chicago
BEGIN:DAYLIGHT
TZOFFSETFROM:-0600
TZOFFSETTO:-0500
TZNAME:CDT
DTSTART:20190310T080000
END:DAYLIGHT
BEGIN:STANDARD
TZOFFSETFROM:-0500
TZOFFSETTO:-0600
TZNAME:CST
DTSTART:20191103T070000
END:STANDARD
END:VTIMEZONE
BEGIN:VEVENT
DTSTART;TZID=America/Chicago:20191022T173000
DTEND;TZID=America/Chicago:20191022T190000
DTSTAMP:20260423T011515
CREATED:20190718T145338Z
LAST-MODIFIED:20191023T172438Z
UID:26181-1571765400-1571770800@www.gogremlins.com
SUMMARY:VB 5:30 JH A then B at Smithton
DESCRIPTION:
URL:https://www.gogremlins.com/event/5pm-jh-a-then-jh-b-then-jv-then-varsity-at-smithton-2/
CATEGORIES:JH Volleyball
END:VEVENT
END:VCALENDAR