BEGIN:VCALENDAR
VERSION:2.0
PRODID:-//Sacred Heart School - ECPv5.8.1//NONSGML v1.0//EN
CALSCALE:GREGORIAN
METHOD:PUBLISH
X-WR-CALNAME:Sacred Heart School
X-ORIGINAL-URL:https://www.gogremlins.com
X-WR-CALDESC:Events for Sacred Heart School
BEGIN:VTIMEZONE
TZID:America/Chicago
BEGIN:DAYLIGHT
TZOFFSETFROM:-0600
TZOFFSETTO:-0500
TZNAME:CDT
DTSTART:20190310T080000
END:DAYLIGHT
BEGIN:STANDARD
TZOFFSETFROM:-0500
TZOFFSETTO:-0600
TZNAME:CST
DTSTART:20191103T070000
END:STANDARD
END:VTIMEZONE
BEGIN:VEVENT
DTSTART;TZID=America/Chicago:20191022T170000
DTEND;TZID=America/Chicago:20191022T210000
DTSTAMP:20260423T035908
CREATED:20190718T135402Z
LAST-MODIFIED:20191023T165407Z
UID:26165-1571763600-1571778000@www.gogremlins.com
SUMMARY:5pm JH then Varsity at Smithton
DESCRIPTION:
URL:https://www.gogremlins.com/event/430-jh-then-varsity-then-jv-at-smithton-2/
CATEGORIES:JH Soccer
END:VEVENT
END:VCALENDAR