BEGIN:VCALENDAR
VERSION:2.0
PRODID:-//Sacred Heart School - ECPv5.8.1//NONSGML v1.0//EN
CALSCALE:GREGORIAN
METHOD:PUBLISH
X-WR-CALNAME:Sacred Heart School
X-ORIGINAL-URL:https://www.gogremlins.com
X-WR-CALDESC:Events for Sacred Heart School
BEGIN:VTIMEZONE
TZID:America/Chicago
BEGIN:DAYLIGHT
TZOFFSETFROM:-0600
TZOFFSETTO:-0500
TZNAME:CDT
DTSTART:20190310T080000
END:DAYLIGHT
BEGIN:STANDARD
TZOFFSETFROM:-0500
TZOFFSETTO:-0600
TZNAME:CST
DTSTART:20191103T070000
END:STANDARD
END:VTIMEZONE
BEGIN:VEVENT
DTSTART;VALUE=DATE:20190516
DTEND;VALUE=DATE:20190517
DTSTAMP:20260423T045104
CREATED:20190403T202535Z
LAST-MODIFIED:20190516T024004Z
UID:23515-1557964800-1558051199@www.gogremlins.com
SUMMARY:3rd Grade Field Trip: Van Meter State Park
DESCRIPTION:
URL:https://www.gogremlins.com/event/3rd-grade-field-trip-van-meter-state-park/
LOCATION:MO
CATEGORIES:Main
ORGANIZER;CN="Sacred%20Heart%20School%20Calendar":MAILTO:gogremlins.com_a3j4m3njtec9e6sauf99rsoo00@group.calendar.google.com
END:VEVENT
END:VCALENDAR