BEGIN:VCALENDAR
VERSION:2.0
PRODID:-//Sacred Heart School - ECPv5.8.1//NONSGML v1.0//EN
CALSCALE:GREGORIAN
METHOD:PUBLISH
X-WR-CALNAME:Sacred Heart School
X-ORIGINAL-URL:https://www.gogremlins.com
X-WR-CALDESC:Events for Sacred Heart School
BEGIN:VTIMEZONE
TZID:America/Chicago
BEGIN:DAYLIGHT
TZOFFSETFROM:-0600
TZOFFSETTO:-0500
TZNAME:CDT
DTSTART:20180311T080000
END:DAYLIGHT
BEGIN:STANDARD
TZOFFSETFROM:-0500
TZOFFSETTO:-0600
TZNAME:CST
DTSTART:20181104T070000
END:STANDARD
END:VTIMEZONE
BEGIN:VEVENT
DTSTART;TZID=America/Chicago:20181219T075000
DTEND;TZID=America/Chicago:20181219T090200
DTSTAMP:20260422T000248
CREATED:20181208T215539Z
LAST-MODIFIED:20181219T123908Z
UID:19414-1545205800-1545210120@www.gogremlins.com
SUMMARY:1st Hour Final (6-12th Grade)
DESCRIPTION:
URL:https://www.gogremlins.com/event/1st-hour-final-6-12th-grade/
CATEGORIES:Main
END:VEVENT
END:VCALENDAR